BEGIN:VCALENDAR
VERSION:2.0
PRODID:-//Probus Club of Brantford - ECPv6.15.20//NONSGML v1.0//EN
CALSCALE:GREGORIAN
METHOD:PUBLISH
X-ORIGINAL-URL:https://brantfordprobus.ca
X-WR-CALDESC:Events for Probus Club of Brantford
REFRESH-INTERVAL;VALUE=DURATION:PT1H
X-Robots-Tag:noindex
X-PUBLISHED-TTL:PT1H
BEGIN:VTIMEZONE
TZID:UTC
BEGIN:STANDARD
TZOFFSETFROM:+0000
TZOFFSETTO:+0000
TZNAME:UTC
DTSTART:20240101T000000
END:STANDARD
END:VTIMEZONE
BEGIN:VEVENT
DTSTART;TZID=UTC:20250429T120000
DTEND;TZID=UTC:20250429T133000
DTSTAMP:20260422T040959
CREATED:20231219T193756Z
LAST-MODIFIED:20231219T193756Z
UID:2506-1745928000-1745933400@brantfordprobus.ca
SUMMARY:Romeos
DESCRIPTION:last Tuesday of the month
URL:https://brantfordprobus.ca/event/romeos-19/
ATTACH;FMTTYPE=image/jpeg:https://brantfordprobus.ca/wp-content/uploads/2023/12/Sociable.jpg
END:VEVENT
END:VCALENDAR