BEGIN:VCALENDAR
VERSION:2.0
PRODID:-//Probus Club of Brantford - ECPv6.15.20//NONSGML v1.0//EN
CALSCALE:GREGORIAN
METHOD:PUBLISH
X-ORIGINAL-URL:https://brantfordprobus.ca
X-WR-CALDESC:Events for Probus Club of Brantford
REFRESH-INTERVAL;VALUE=DURATION:PT1H
X-Robots-Tag:noindex
X-PUBLISHED-TTL:PT1H
BEGIN:VTIMEZONE
TZID:UTC
BEGIN:STANDARD
TZOFFSETFROM:+0000
TZOFFSETTO:+0000
TZNAME:UTC
DTSTART:20240101T000000
END:STANDARD
END:VTIMEZONE
BEGIN:VTIMEZONE
TZID:America/Toronto
BEGIN:DAYLIGHT
TZOFFSETFROM:-0500
TZOFFSETTO:-0400
TZNAME:EDT
DTSTART:20240310T070000
END:DAYLIGHT
BEGIN:STANDARD
TZOFFSETFROM:-0400
TZOFFSETTO:-0500
TZNAME:EST
DTSTART:20241103T060000
END:STANDARD
BEGIN:DAYLIGHT
TZOFFSETFROM:-0500
TZOFFSETTO:-0400
TZNAME:EDT
DTSTART:20250309T070000
END:DAYLIGHT
BEGIN:STANDARD
TZOFFSETFROM:-0400
TZOFFSETTO:-0500
TZNAME:EST
DTSTART:20251102T060000
END:STANDARD
BEGIN:DAYLIGHT
TZOFFSETFROM:-0500
TZOFFSETTO:-0400
TZNAME:EDT
DTSTART:20260308T070000
END:DAYLIGHT
BEGIN:STANDARD
TZOFFSETFROM:-0400
TZOFFSETTO:-0500
TZNAME:EST
DTSTART:20261101T060000
END:STANDARD
END:VTIMEZONE
BEGIN:VEVENT
DTSTART;TZID=UTC:20250610T110000
DTEND;TZID=UTC:20250610T120000
DTSTAMP:20260422T002829
CREATED:20240213T223258Z
LAST-MODIFIED:20240213T224825Z
UID:2872-1749553200-1749556800@brantfordprobus.ca
SUMMARY:Management Committee Meeting
DESCRIPTION:the Tuesday preceding the General Probus Meeting
URL:https://brantfordprobus.ca/event/management-committee-meeting-27/
LOCATION:Enterprise Brant\, 330 West Street Unit 10\, Brantford\, ON\, N3R 7V5\, Canada
ATTACH;FMTTYPE=image/png:https://brantfordprobus.ca/wp-content/uploads/2023/08/Enterprise-Brant-Logo-1.png
END:VEVENT
BEGIN:VEVENT
DTSTART;TZID=UTC:20250612T100000
DTEND;TZID=UTC:20250612T120000
DTSTAMP:20260422T002829
CREATED:20240213T222142Z
LAST-MODIFIED:20240213T222142Z
UID:2860-1749722400-1749729600@brantfordprobus.ca
SUMMARY:Probus General Meeting
DESCRIPTION:The Probus General Meetings occur on the second Thursday of every month
URL:https://brantfordprobus.ca/event/probus-general-meeting-26/
LOCATION:Walter Gretzky Municipal Golf Course\, 320 Balmoral Drive\, Brantford\, Ontario\, N3R 7S2\, Canada
ATTACH;FMTTYPE=image/jpeg:https://brantfordprobus.ca/wp-content/uploads/2023/04/WGMGC-clubhouse.jpg
END:VEVENT
BEGIN:VEVENT
DTSTART;TZID=America/Toronto:20250619T101500
DTEND;TZID=America/Toronto:20250619T170000
DTSTAMP:20260422T002829
CREATED:20250412T204859Z
LAST-MODIFIED:20250412T205009Z
UID:5103-1750328100-1750352400@brantfordprobus.ca
SUMMARY:Car Tour to the Cottonwood Mansion
DESCRIPTION:Members should contact Art Meens if they are interested in participating.
URL:https://brantfordprobus.ca/event/car-tour-to-the-cottonwood-mansion/
END:VEVENT
BEGIN:VEVENT
DTSTART;TZID=UTC:20250624T120000
DTEND;TZID=UTC:20250624T133000
DTSTAMP:20260422T002829
CREATED:20240213T223257Z
LAST-MODIFIED:20240213T223257Z
UID:2870-1750766400-1750771800@brantfordprobus.ca
SUMMARY:Romeos
DESCRIPTION:Romeos takes place on the last Tuesday of the month
URL:https://brantfordprobus.ca/event/romeos-21/
ATTACH;FMTTYPE=image/jpeg:https://brantfordprobus.ca/wp-content/uploads/2023/12/Sociable.jpg
END:VEVENT
END:VCALENDAR