BEGIN:VCALENDAR
VERSION:2.0
PRODID:-//Probus Club of Brantford - ECPv6.15.20//NONSGML v1.0//EN
CALSCALE:GREGORIAN
METHOD:PUBLISH
X-ORIGINAL-URL:https://brantfordprobus.ca
X-WR-CALDESC:Events for Probus Club of Brantford
REFRESH-INTERVAL;VALUE=DURATION:PT1H
X-Robots-Tag:noindex
X-PUBLISHED-TTL:PT1H
BEGIN:VTIMEZONE
TZID:America/Toronto
BEGIN:DAYLIGHT
TZOFFSETFROM:-0500
TZOFFSETTO:-0400
TZNAME:EDT
DTSTART:20240310T070000
END:DAYLIGHT
BEGIN:STANDARD
TZOFFSETFROM:-0400
TZOFFSETTO:-0500
TZNAME:EST
DTSTART:20241103T060000
END:STANDARD
BEGIN:DAYLIGHT
TZOFFSETFROM:-0500
TZOFFSETTO:-0400
TZNAME:EDT
DTSTART:20250309T070000
END:DAYLIGHT
BEGIN:STANDARD
TZOFFSETFROM:-0400
TZOFFSETTO:-0500
TZNAME:EST
DTSTART:20251102T060000
END:STANDARD
BEGIN:DAYLIGHT
TZOFFSETFROM:-0500
TZOFFSETTO:-0400
TZNAME:EDT
DTSTART:20260308T070000
END:DAYLIGHT
BEGIN:STANDARD
TZOFFSETFROM:-0400
TZOFFSETTO:-0500
TZNAME:EST
DTSTART:20261101T060000
END:STANDARD
END:VTIMEZONE
BEGIN:VEVENT
DTSTART;VALUE=DATE:20250901
DTEND;VALUE=DATE:20250902
DTSTAMP:20260421T184554
CREATED:20250106T134455Z
LAST-MODIFIED:20250106T134455Z
UID:4828-1756684800-1756771199@brantfordprobus.ca
SUMMARY:Labour Day
DESCRIPTION:
URL:https://brantfordprobus.ca/event/labour-day/
END:VEVENT
BEGIN:VEVENT
DTSTART;TZID=America/Toronto:20250909T110000
DTEND;TZID=America/Toronto:20250909T120000
DTSTAMP:20260421T184554
CREATED:20250106T131205Z
LAST-MODIFIED:20250106T131205Z
UID:4805-1757415600-1757419200@brantfordprobus.ca
SUMMARY:Management Committee Meeting
DESCRIPTION:the Tuesday preceding the General Meeting
URL:https://brantfordprobus.ca/event/management-committee-meeting/
LOCATION:Enterprise Brant\, 330 West Street Unit 10\, Brantford\, ON\, N3R 7V5\, Canada
ATTACH;FMTTYPE=image/png:https://brantfordprobus.ca/wp-content/uploads/2023/08/Enterprise-Brant-Logo.png
END:VEVENT
BEGIN:VEVENT
DTSTART;TZID=America/Toronto:20250911T100000
DTEND;TZID=America/Toronto:20250911T120000
DTSTAMP:20260421T184554
CREATED:20250106T131208Z
LAST-MODIFIED:20250106T131208Z
UID:4809-1757584800-1757592000@brantfordprobus.ca
SUMMARY:Probus General Meeting
DESCRIPTION:second Thursday of the month
URL:https://brantfordprobus.ca/event/probus-general-meeting-2/
LOCATION:Walter Gretzky Municipal Golf Course\, 320 Balmoral Drive\, Brantford\, Ontario\, N3R 7S2\, Canada
ATTACH;FMTTYPE=image/jpeg:https://brantfordprobus.ca/wp-content/uploads/2023/04/WGMGC-clubhouse.jpg
END:VEVENT
BEGIN:VEVENT
DTSTART;TZID=America/Toronto:20250925T100000
DTEND;TZID=America/Toronto:20250925T133000
DTSTAMP:20260421T184554
CREATED:20250825T191103Z
LAST-MODIFIED:20250825T191103Z
UID:5360-1758794400-1758807000@brantfordprobus.ca
SUMMARY:Car Tour to Hamilton Steam Museum
DESCRIPTION:Contact Art Meens if you plan to attend.
URL:https://brantfordprobus.ca/event/car-tour-to-hamilton-steam-museum/
END:VEVENT
BEGIN:VEVENT
DTSTART;TZID=America/Toronto:20250930T120000
DTEND;TZID=America/Toronto:20250930T133000
DTSTAMP:20260421T184554
CREATED:20250106T131213Z
LAST-MODIFIED:20250106T131213Z
UID:4813-1759233600-1759239000@brantfordprobus.ca
SUMMARY:Romeos
DESCRIPTION:last Tuesday of the month
URL:https://brantfordprobus.ca/event/romeos/
ATTACH;FMTTYPE=image/jpeg:https://brantfordprobus.ca/wp-content/uploads/2023/12/Sociable.jpg
END:VEVENT
END:VCALENDAR