BEGIN:VCALENDAR
VERSION:2.0
PRODID:-//Probus Club of Brantford - ECPv6.15.20//NONSGML v1.0//EN
CALSCALE:GREGORIAN
METHOD:PUBLISH
X-ORIGINAL-URL:https://brantfordprobus.ca
X-WR-CALDESC:Events for Probus Club of Brantford
REFRESH-INTERVAL;VALUE=DURATION:PT1H
X-Robots-Tag:noindex
X-PUBLISHED-TTL:PT1H
BEGIN:VTIMEZONE
TZID:America/Toronto
BEGIN:DAYLIGHT
TZOFFSETFROM:-0500
TZOFFSETTO:-0400
TZNAME:EDT
DTSTART:20240310T070000
END:DAYLIGHT
BEGIN:STANDARD
TZOFFSETFROM:-0400
TZOFFSETTO:-0500
TZNAME:EST
DTSTART:20241103T060000
END:STANDARD
BEGIN:DAYLIGHT
TZOFFSETFROM:-0500
TZOFFSETTO:-0400
TZNAME:EDT
DTSTART:20250309T070000
END:DAYLIGHT
BEGIN:STANDARD
TZOFFSETFROM:-0400
TZOFFSETTO:-0500
TZNAME:EST
DTSTART:20251102T060000
END:STANDARD
BEGIN:DAYLIGHT
TZOFFSETFROM:-0500
TZOFFSETTO:-0400
TZNAME:EDT
DTSTART:20260308T070000
END:DAYLIGHT
BEGIN:STANDARD
TZOFFSETFROM:-0400
TZOFFSETTO:-0500
TZNAME:EST
DTSTART:20261101T060000
END:STANDARD
END:VTIMEZONE
BEGIN:VEVENT
DTSTART;TZID=America/Toronto:20251007T110000
DTEND;TZID=America/Toronto:20251007T120000
DTSTAMP:20260421T165152
CREATED:20250106T131206Z
LAST-MODIFIED:20250106T131206Z
UID:4806-1759834800-1759838400@brantfordprobus.ca
SUMMARY:Management Committee Meeting
DESCRIPTION:the Tuesday preceding the General Meeting
URL:https://brantfordprobus.ca/event/management-committee-meeting-2/
LOCATION:Enterprise Brant\, 330 West Street Unit 10\, Brantford\, ON\, N3R 7V5\, Canada
ATTACH;FMTTYPE=image/png:https://brantfordprobus.ca/wp-content/uploads/2023/08/Enterprise-Brant-Logo.png
END:VEVENT
BEGIN:VEVENT
DTSTART;TZID=America/Toronto:20251009T100000
DTEND;TZID=America/Toronto:20251009T120000
DTSTAMP:20260421T165152
CREATED:20250106T131210Z
LAST-MODIFIED:20250106T131210Z
UID:4810-1760004000-1760011200@brantfordprobus.ca
SUMMARY:Probus General Meeting
DESCRIPTION:second Thursday of the month
URL:https://brantfordprobus.ca/event/probus-general-meeting-3/
LOCATION:Walter Gretzky Municipal Golf Course\, 320 Balmoral Drive\, Brantford\, Ontario\, N3R 7S2\, Canada
ATTACH;FMTTYPE=image/jpeg:https://brantfordprobus.ca/wp-content/uploads/2023/04/WGMGC-clubhouse.jpg
END:VEVENT
BEGIN:VEVENT
DTSTART;TZID=America/Toronto:20251013T000000
DTEND;TZID=America/Toronto:20251013T235959
DTSTAMP:20260421T165152
CREATED:20250106T133601Z
LAST-MODIFIED:20250106T133601Z
UID:4819-1760313600-1760399999@brantfordprobus.ca
SUMMARY:Thanksgiving
DESCRIPTION:
URL:https://brantfordprobus.ca/event/thanksgiving/
END:VEVENT
BEGIN:VEVENT
DTSTART;TZID=America/Toronto:20251028T120000
DTEND;TZID=America/Toronto:20251028T133000
DTSTAMP:20260421T165152
CREATED:20250106T131213Z
LAST-MODIFIED:20250106T131213Z
UID:4814-1761652800-1761658200@brantfordprobus.ca
SUMMARY:Romeos
DESCRIPTION:last Tuesday of the month
URL:https://brantfordprobus.ca/event/romeos-2/
ATTACH;FMTTYPE=image/jpeg:https://brantfordprobus.ca/wp-content/uploads/2023/12/Sociable.jpg
END:VEVENT
END:VCALENDAR