BEGIN:VCALENDAR
VERSION:2.0
PRODID:-//Probus Club of Brantford - ECPv6.15.20//NONSGML v1.0//EN
CALSCALE:GREGORIAN
METHOD:PUBLISH
X-WR-CALNAME:Probus Club of Brantford
X-ORIGINAL-URL:https://brantfordprobus.ca
X-WR-CALDESC:Events for Probus Club of Brantford
REFRESH-INTERVAL;VALUE=DURATION:PT1H
X-Robots-Tag:noindex
X-PUBLISHED-TTL:PT1H
BEGIN:VTIMEZONE
TZID:America/Toronto
BEGIN:DAYLIGHT
TZOFFSETFROM:-0500
TZOFFSETTO:-0400
TZNAME:EDT
DTSTART:20240310T070000
END:DAYLIGHT
BEGIN:STANDARD
TZOFFSETFROM:-0400
TZOFFSETTO:-0500
TZNAME:EST
DTSTART:20241103T060000
END:STANDARD
BEGIN:DAYLIGHT
TZOFFSETFROM:-0500
TZOFFSETTO:-0400
TZNAME:EDT
DTSTART:20250309T070000
END:DAYLIGHT
BEGIN:STANDARD
TZOFFSETFROM:-0400
TZOFFSETTO:-0500
TZNAME:EST
DTSTART:20251102T060000
END:STANDARD
BEGIN:DAYLIGHT
TZOFFSETFROM:-0500
TZOFFSETTO:-0400
TZNAME:EDT
DTSTART:20260308T070000
END:DAYLIGHT
BEGIN:STANDARD
TZOFFSETFROM:-0400
TZOFFSETTO:-0500
TZNAME:EST
DTSTART:20261101T060000
END:STANDARD
END:VTIMEZONE
BEGIN:VEVENT
DTSTART;TZID=America/Toronto:20251110T110000
DTEND;TZID=America/Toronto:20251110T120000
DTSTAMP:20260421T145920
CREATED:20250106T131207Z
LAST-MODIFIED:20251029T131043Z
UID:4807-1762772400-1762776000@brantfordprobus.ca
SUMMARY:Management Committee Meeting
DESCRIPTION:Meeting changed to Monday the 10th\, since Tuesday is Remembrance Day.
URL:https://brantfordprobus.ca/event/management-committee-meeting-3/
LOCATION:Enterprise Brant\, 330 West Street Unit 10\, Brantford\, ON\, N3R 7V5\, Canada
ATTACH;FMTTYPE=image/png:https://brantfordprobus.ca/wp-content/uploads/2023/08/Enterprise-Brant-Logo.png
END:VEVENT
BEGIN:VEVENT
DTSTART;VALUE=DATE:20251111
DTEND;VALUE=DATE:20251112
DTSTAMP:20260421T145920
CREATED:20250106T134546Z
LAST-MODIFIED:20250106T134546Z
UID:4830-1762819200-1762905599@brantfordprobus.ca
SUMMARY:Remembrance Day
DESCRIPTION:
URL:https://brantfordprobus.ca/event/remembrance-day/
END:VEVENT
BEGIN:VEVENT
DTSTART;TZID=America/Toronto:20251113T100000
DTEND;TZID=America/Toronto:20251113T120000
DTSTAMP:20260421T145920
CREATED:20250106T131211Z
LAST-MODIFIED:20250930T152434Z
UID:4811-1763028000-1763035200@brantfordprobus.ca
SUMMARY:Probus General Meeting
DESCRIPTION:Meeting is at the Canadian Military Heritage Museum
URL:https://brantfordprobus.ca/event/probus-general-meeting-4/
LOCATION:Canadian Military Museum\, 347 Greenwich St\,\, Brantford\, ontario\, N3S 7X4\, Canada
ATTACH;FMTTYPE=image/jpeg:https://brantfordprobus.ca/wp-content/uploads/2024/10/military-museum.jpg
END:VEVENT
BEGIN:VEVENT
DTSTART;TZID=America/Toronto:20251125T120000
DTEND;TZID=America/Toronto:20251125T133000
DTSTAMP:20260421T145920
CREATED:20250106T131227Z
LAST-MODIFIED:20250106T131227Z
UID:4815-1764072000-1764077400@brantfordprobus.ca
SUMMARY:Romeos
DESCRIPTION:last Tuesday of the month
URL:https://brantfordprobus.ca/event/romeos-3/
ATTACH;FMTTYPE=image/jpeg:https://brantfordprobus.ca/wp-content/uploads/2023/12/Sociable.jpg
END:VEVENT
END:VCALENDAR