BEGIN:VCALENDAR
VERSION:2.0
PRODID:-//Probus Club of Brantford - ECPv6.15.20//NONSGML v1.0//EN
CALSCALE:GREGORIAN
METHOD:PUBLISH
X-ORIGINAL-URL:https://brantfordprobus.ca
X-WR-CALDESC:Events for Probus Club of Brantford
REFRESH-INTERVAL;VALUE=DURATION:PT1H
X-Robots-Tag:noindex
X-PUBLISHED-TTL:PT1H
BEGIN:VTIMEZONE
TZID:America/Toronto
BEGIN:DAYLIGHT
TZOFFSETFROM:-0500
TZOFFSETTO:-0400
TZNAME:EDT
DTSTART:20240310T070000
END:DAYLIGHT
BEGIN:STANDARD
TZOFFSETFROM:-0400
TZOFFSETTO:-0500
TZNAME:EST
DTSTART:20241103T060000
END:STANDARD
BEGIN:DAYLIGHT
TZOFFSETFROM:-0500
TZOFFSETTO:-0400
TZNAME:EDT
DTSTART:20250309T070000
END:DAYLIGHT
BEGIN:STANDARD
TZOFFSETFROM:-0400
TZOFFSETTO:-0500
TZNAME:EST
DTSTART:20251102T060000
END:STANDARD
BEGIN:DAYLIGHT
TZOFFSETFROM:-0500
TZOFFSETTO:-0400
TZNAME:EDT
DTSTART:20260308T070000
END:DAYLIGHT
BEGIN:STANDARD
TZOFFSETFROM:-0400
TZOFFSETTO:-0500
TZNAME:EST
DTSTART:20261101T060000
END:STANDARD
END:VTIMEZONE
BEGIN:VEVENT
DTSTART;TZID=America/Toronto:20251204T090000
DTEND;TZID=America/Toronto:20251204T110000
DTSTAMP:20260421T125919
CREATED:20251106T191434Z
LAST-MODIFIED:20251125T034224Z
UID:5585-1764838800-1764846000@brantfordprobus.ca
SUMMARY:Tour of the McMaster Nuclear Reactor
DESCRIPTION:Groups of 10 begin the tour at 11:30. The second group at 12 o’clock. The third at 12:30\, etc. \nPlease bring $10 for the free will offering. \nMap was shared with participating members. Lists for each group – emailed on November 21.
URL:https://brantfordprobus.ca/event/tour-of-the-mcmaster-nuclear-reactor/
END:VEVENT
BEGIN:VEVENT
DTSTART;TZID=America/Toronto:20251209T110000
DTEND;TZID=America/Toronto:20251209T120000
DTSTAMP:20260421T125919
CREATED:20250106T131207Z
LAST-MODIFIED:20250106T131207Z
UID:4808-1765278000-1765281600@brantfordprobus.ca
SUMMARY:Management Committee Meeting
DESCRIPTION:the Tuesday preceding the General Meeting
URL:https://brantfordprobus.ca/event/management-committee-meeting-4/
LOCATION:Enterprise Brant\, 330 West Street Unit 10\, Brantford\, ON\, N3R 7V5\, Canada
ATTACH;FMTTYPE=image/png:https://brantfordprobus.ca/wp-content/uploads/2023/08/Enterprise-Brant-Logo.png
END:VEVENT
BEGIN:VEVENT
DTSTART;TZID=America/Toronto:20251211T100000
DTEND;TZID=America/Toronto:20251211T120000
DTSTAMP:20260421T125919
CREATED:20250106T131212Z
LAST-MODIFIED:20250106T133633Z
UID:4812-1765447200-1765454400@brantfordprobus.ca
SUMMARY:Probus General Meeting
DESCRIPTION:second Thursday of the month
URL:https://brantfordprobus.ca/event/probus-general-meeting-17/
LOCATION:Walter Gretzky Municipal Golf Course\, 320 Balmoral Drive\, Brantford\, Ontario\, N3R 7S2\, Canada
ATTACH;FMTTYPE=image/jpeg:https://brantfordprobus.ca/wp-content/uploads/2023/04/WGMGC-clubhouse.jpg
END:VEVENT
BEGIN:VEVENT
DTSTART;VALUE=DATE:20251225
DTEND;VALUE=DATE:20251226
DTSTAMP:20260421T125919
CREATED:20250106T134637Z
LAST-MODIFIED:20250106T134637Z
UID:4833-1766620800-1766707199@brantfordprobus.ca
SUMMARY:Christmas Day
DESCRIPTION:
URL:https://brantfordprobus.ca/event/christmas-day/
END:VEVENT
BEGIN:VEVENT
DTSTART;VALUE=DATE:20251226
DTEND;VALUE=DATE:20251227
DTSTAMP:20260421T125919
CREATED:20250106T134706Z
LAST-MODIFIED:20250106T134706Z
UID:4835-1766707200-1766793599@brantfordprobus.ca
SUMMARY:Boxing Day
DESCRIPTION:
URL:https://brantfordprobus.ca/event/boxing-day/
END:VEVENT
END:VCALENDAR