BEGIN:VCALENDAR
VERSION:2.0
PRODID:-//Probus Club of Brantford - ECPv6.15.20//NONSGML v1.0//EN
CALSCALE:GREGORIAN
METHOD:PUBLISH
X-WR-CALNAME:Probus Club of Brantford
X-ORIGINAL-URL:https://brantfordprobus.ca
X-WR-CALDESC:Events for Probus Club of Brantford
REFRESH-INTERVAL;VALUE=DURATION:PT1H
X-Robots-Tag:noindex
X-PUBLISHED-TTL:PT1H
BEGIN:VTIMEZONE
TZID:America/Toronto
BEGIN:DAYLIGHT
TZOFFSETFROM:-0500
TZOFFSETTO:-0400
TZNAME:EDT
DTSTART:20250309T070000
END:DAYLIGHT
BEGIN:STANDARD
TZOFFSETFROM:-0400
TZOFFSETTO:-0500
TZNAME:EST
DTSTART:20251102T060000
END:STANDARD
BEGIN:DAYLIGHT
TZOFFSETFROM:-0500
TZOFFSETTO:-0400
TZNAME:EDT
DTSTART:20260308T070000
END:DAYLIGHT
BEGIN:STANDARD
TZOFFSETFROM:-0400
TZOFFSETTO:-0500
TZNAME:EST
DTSTART:20261101T060000
END:STANDARD
BEGIN:DAYLIGHT
TZOFFSETFROM:-0500
TZOFFSETTO:-0400
TZNAME:EDT
DTSTART:20270314T070000
END:DAYLIGHT
BEGIN:STANDARD
TZOFFSETFROM:-0400
TZOFFSETTO:-0500
TZNAME:EST
DTSTART:20271107T060000
END:STANDARD
END:VTIMEZONE
BEGIN:VEVENT
DTSTART;TZID=America/Toronto:20260106T110000
DTEND;TZID=America/Toronto:20260106T120000
DTSTAMP:20260421T111639
CREATED:20251125T035857Z
LAST-MODIFIED:20251125T035857Z
UID:5681-1767697200-1767700800@brantfordprobus.ca
SUMMARY:Management Committee Meeting
DESCRIPTION:the Tuesday preceding the General Probus Meeting
URL:https://brantfordprobus.ca/event/management-committee-meeting-5/
LOCATION:Enterprise Brant\, 330 West Street Unit 10\, Brantford\, ON\, N3R 7V5\, Canada
END:VEVENT
BEGIN:VEVENT
DTSTART;TZID=America/Toronto:20260108T100000
DTEND;TZID=America/Toronto:20260108T120000
DTSTAMP:20260421T111639
CREATED:20251125T035256Z
LAST-MODIFIED:20251125T035256Z
UID:5650-1767866400-1767873600@brantfordprobus.ca
SUMMARY:Probus General Meeting
DESCRIPTION:The Probus General Meetings occur on the second Thursday of every month
URL:https://brantfordprobus.ca/event/probus-general-meeting/
LOCATION:Walter Gretzky Municipal Golf Course\, 320 Balmoral Drive\, Brantford\, Ontario\, N3R 7S2\, Canada
ATTACH;FMTTYPE=image/jpeg:https://brantfordprobus.ca/wp-content/uploads/2023/04/WGMGC-clubhouse.jpg
END:VEVENT
BEGIN:VEVENT
DTSTART;TZID=America/Toronto:20260125T140000
DTEND;TZID=America/Toronto:20260125T170000
DTSTAMP:20260421T111639
CREATED:20251215T002557Z
LAST-MODIFIED:20251215T002557Z
UID:5796-1769349600-1769360400@brantfordprobus.ca
SUMMARY:Bulldogs Game
DESCRIPTION:40 members will be attending the Brantford Bulldogs hockey game starting at 2 o’clock at the Brantford Civic Centre.
URL:https://brantfordprobus.ca/event/bulldogs-game/
END:VEVENT
BEGIN:VEVENT
DTSTART;TZID=America/Toronto:20260127T120000
DTEND;TZID=America/Toronto:20260127T133000
DTSTAMP:20260421T111639
CREATED:20251125T035608Z
LAST-MODIFIED:20251125T035608Z
UID:5666-1769515200-1769520600@brantfordprobus.ca
SUMMARY:Romeos
DESCRIPTION:Romeos takes place on the last Tuesday of the month
URL:https://brantfordprobus.ca/event/romeos-5/
ATTACH;FMTTYPE=image/jpeg:https://brantfordprobus.ca/wp-content/uploads/2023/12/Sociable.jpg
END:VEVENT
END:VCALENDAR