BEGIN:VCALENDAR
VERSION:2.0
PRODID:-//Probus Club of Brantford - ECPv6.15.20//NONSGML v1.0//EN
CALSCALE:GREGORIAN
METHOD:PUBLISH
X-ORIGINAL-URL:https://brantfordprobus.ca
X-WR-CALDESC:Events for Probus Club of Brantford
REFRESH-INTERVAL;VALUE=DURATION:PT1H
X-Robots-Tag:noindex
X-PUBLISHED-TTL:PT1H
BEGIN:VTIMEZONE
TZID:America/Toronto
BEGIN:DAYLIGHT
TZOFFSETFROM:-0500
TZOFFSETTO:-0400
TZNAME:EDT
DTSTART:20250309T070000
END:DAYLIGHT
BEGIN:STANDARD
TZOFFSETFROM:-0400
TZOFFSETTO:-0500
TZNAME:EST
DTSTART:20251102T060000
END:STANDARD
BEGIN:DAYLIGHT
TZOFFSETFROM:-0500
TZOFFSETTO:-0400
TZNAME:EDT
DTSTART:20260308T070000
END:DAYLIGHT
BEGIN:STANDARD
TZOFFSETFROM:-0400
TZOFFSETTO:-0500
TZNAME:EST
DTSTART:20261101T060000
END:STANDARD
BEGIN:DAYLIGHT
TZOFFSETFROM:-0500
TZOFFSETTO:-0400
TZNAME:EDT
DTSTART:20270314T070000
END:DAYLIGHT
BEGIN:STANDARD
TZOFFSETFROM:-0400
TZOFFSETTO:-0500
TZNAME:EST
DTSTART:20271107T060000
END:STANDARD
END:VTIMEZONE
BEGIN:VEVENT
DTSTART;TZID=America/Toronto:20260908T110000
DTEND;TZID=America/Toronto:20260908T120000
DTSTAMP:20260421T142437
CREATED:20251125T035946Z
LAST-MODIFIED:20251125T035946Z
UID:5689-1788865200-1788868800@brantfordprobus.ca
SUMMARY:Management Committee Meeting
DESCRIPTION:the Tuesday preceding the General Probus Meeting
URL:https://brantfordprobus.ca/event/management-committee-meeting-35/
LOCATION:Enterprise Brant\, 330 West Street Unit 10\, Brantford\, ON\, N3R 7V5\, Canada
ATTACH;FMTTYPE=image/png:https://brantfordprobus.ca/wp-content/uploads/2023/08/Enterprise-Brant-Logo-1.png
END:VEVENT
BEGIN:VEVENT
DTSTART;TZID=America/Toronto:20260910T100000
DTEND;TZID=America/Toronto:20260910T120000
DTSTAMP:20260421T142437
CREATED:20251125T035324Z
LAST-MODIFIED:20251125T035324Z
UID:5658-1789034400-1789041600@brantfordprobus.ca
SUMMARY:Probus General Meeting
DESCRIPTION:The Probus General Meetings occur on the second Thursday of every month
URL:https://brantfordprobus.ca/event/probus-general-meeting-36/
LOCATION:Walter Gretzky Municipal Golf Course\, 320 Balmoral Drive\, Brantford\, Ontario\, N3R 7S2\, Canada
ATTACH;FMTTYPE=image/jpeg:https://brantfordprobus.ca/wp-content/uploads/2023/04/WGMGC-clubhouse.jpg
END:VEVENT
BEGIN:VEVENT
DTSTART;TZID=America/Toronto:20260929T120000
DTEND;TZID=America/Toronto:20260929T133000
DTSTAMP:20260421T142437
CREATED:20251125T035631Z
LAST-MODIFIED:20251125T035631Z
UID:5672-1790683200-1790688600@brantfordprobus.ca
SUMMARY:Romeos
DESCRIPTION:Romeos takes place on the last Tuesday of the month
URL:https://brantfordprobus.ca/event/romeos-27/
ATTACH;FMTTYPE=image/jpeg:https://brantfordprobus.ca/wp-content/uploads/2023/12/Sociable.jpg
END:VEVENT
END:VCALENDAR