BEGIN:VCALENDAR
VERSION:2.0
PRODID:-//Probus Club of Brantford - ECPv6.15.20//NONSGML v1.0//EN
CALSCALE:GREGORIAN
METHOD:PUBLISH
X-ORIGINAL-URL:https://brantfordprobus.ca
X-WR-CALDESC:Events for Probus Club of Brantford
REFRESH-INTERVAL;VALUE=DURATION:PT1H
X-Robots-Tag:noindex
X-PUBLISHED-TTL:PT1H
BEGIN:VTIMEZONE
TZID:America/Toronto
BEGIN:DAYLIGHT
TZOFFSETFROM:-0500
TZOFFSETTO:-0400
TZNAME:EDT
DTSTART:20260308T070000
END:DAYLIGHT
BEGIN:STANDARD
TZOFFSETFROM:-0400
TZOFFSETTO:-0500
TZNAME:EST
DTSTART:20261101T060000
END:STANDARD
BEGIN:DAYLIGHT
TZOFFSETFROM:-0500
TZOFFSETTO:-0400
TZNAME:EDT
DTSTART:20270314T070000
END:DAYLIGHT
BEGIN:STANDARD
TZOFFSETFROM:-0400
TZOFFSETTO:-0500
TZNAME:EST
DTSTART:20271107T060000
END:STANDARD
BEGIN:DAYLIGHT
TZOFFSETFROM:-0500
TZOFFSETTO:-0400
TZNAME:EDT
DTSTART:20280312T070000
END:DAYLIGHT
BEGIN:STANDARD
TZOFFSETFROM:-0400
TZOFFSETTO:-0500
TZNAME:EST
DTSTART:20281105T060000
END:STANDARD
END:VTIMEZONE
BEGIN:VEVENT
DTSTART;TZID=America/Toronto:20270406T110000
DTEND;TZID=America/Toronto:20270406T120000
DTSTAMP:20260422T032920
CREATED:20251125T035959Z
LAST-MODIFIED:20251125T040445Z
UID:5696-1807009200-1807012800@brantfordprobus.ca
SUMMARY:Management Committee Meeting
DESCRIPTION:the Tuesday preceding the General Probus Meeting
URL:https://brantfordprobus.ca/event/management-committee-meeting-43/
LOCATION:Enterprise Brant\, 330 West Street Unit 10\, Brantford\, ON\, N3R 7V5\, Canada
ATTACH;FMTTYPE=image/png:https://brantfordprobus.ca/wp-content/uploads/2023/08/Enterprise-Brant-Logo-1.png
END:VEVENT
BEGIN:VEVENT
DTSTART;TZID=America/Toronto:20270408T100000
DTEND;TZID=America/Toronto:20270408T120000
DTSTAMP:20260422T032920
CREATED:20251125T035606Z
LAST-MODIFIED:20251125T035606Z
UID:5665-1807178400-1807185600@brantfordprobus.ca
SUMMARY:Probus General Meeting
DESCRIPTION:The Probus General Meetings occur on the second Thursday of every month
URL:https://brantfordprobus.ca/event/probus-general-meeting-43/
LOCATION:Walter Gretzky Municipal Golf Course\, 320 Balmoral Drive\, Brantford\, Ontario\, N3R 7S2\, Canada
ATTACH;FMTTYPE=image/jpeg:https://brantfordprobus.ca/wp-content/uploads/2023/04/WGMGC-clubhouse.jpg
END:VEVENT
BEGIN:VEVENT
DTSTART;TZID=America/Toronto:20270427T120000
DTEND;TZID=America/Toronto:20270427T133000
DTSTAMP:20260422T032920
CREATED:20251125T035853Z
LAST-MODIFIED:20251125T035853Z
UID:5678-1808827200-1808832600@brantfordprobus.ca
SUMMARY:Romeos
DESCRIPTION:Romeos takes place on the last Tuesday of the month
URL:https://brantfordprobus.ca/event/romeos-33/
ATTACH;FMTTYPE=image/jpeg:https://brantfordprobus.ca/wp-content/uploads/2023/12/Sociable.jpg
END:VEVENT
END:VCALENDAR